BEGIN:VCALENDAR
VERSION:2.0
PRODID:-//Life Lab - ECPv6.15.20//NONSGML v1.0//EN
CALSCALE:GREGORIAN
METHOD:PUBLISH
X-ORIGINAL-URL:https://life-lab.com.au
X-WR-CALDESC:Events for Life Lab
REFRESH-INTERVAL;VALUE=DURATION:PT1H
X-Robots-Tag:noindex
X-PUBLISHED-TTL:PT1H
BEGIN:VTIMEZONE
TZID:Australia/Melbourne
BEGIN:STANDARD
TZOFFSETFROM:+1100
TZOFFSETTO:+1000
TZNAME:AEST
DTSTART:20230401T160000
END:STANDARD
BEGIN:DAYLIGHT
TZOFFSETFROM:+1000
TZOFFSETTO:+1100
TZNAME:AEDT
DTSTART:20230930T160000
END:DAYLIGHT
BEGIN:STANDARD
TZOFFSETFROM:+1100
TZOFFSETTO:+1000
TZNAME:AEST
DTSTART:20240406T160000
END:STANDARD
BEGIN:DAYLIGHT
TZOFFSETFROM:+1000
TZOFFSETTO:+1100
TZNAME:AEDT
DTSTART:20241005T160000
END:DAYLIGHT
BEGIN:STANDARD
TZOFFSETFROM:+1100
TZOFFSETTO:+1000
TZNAME:AEST
DTSTART:20250405T160000
END:STANDARD
BEGIN:DAYLIGHT
TZOFFSETFROM:+1000
TZOFFSETTO:+1100
TZNAME:AEDT
DTSTART:20251004T160000
END:DAYLIGHT
END:VTIMEZONE
BEGIN:VEVENT
DTSTART;TZID=Australia/Melbourne:20240826T093000
DTEND;TZID=Australia/Melbourne:20240826T140000
DTSTAMP:20260420T185624
CREATED:20240727T043026Z
LAST-MODIFIED:20241029T222554Z
UID:87-1724664600-1724680800@life-lab.com.au
SUMMARY:DISC-Lite Ground Level Collab workshop at Seddon Deadly Sins Cafe
DESCRIPTION:Free for Ground Level Members\, $345 for Non-Members \nGround Level’s first ever Member Collaboration- A ‘lite’ version of a full DISC Report for Ground Level members where participants receive and explore their own personalised report describing their workplace behaviour and their preferences for communication styles etc.
URL:https://life-lab.com.au/event/disc-lite-ground-level-collab-workshop-at-seddon-deadly-sins-cafe/
CATEGORIES:DISC
END:VEVENT
END:VCALENDAR